
BEGIN:VCALENDAR
VERSION:2.0
PRODID:-//Carolina Population Center - ECPv6.15.17//NONSGML v1.0//EN
CALSCALE:GREGORIAN
METHOD:PUBLISH
X-WR-CALNAME:Carolina Population Center
X-ORIGINAL-URL:https://www.cpc.unc.edu
X-WR-CALDESC:Events for Carolina Population Center
REFRESH-INTERVAL;VALUE=DURATION:PT1H
X-Robots-Tag:noindex
X-PUBLISHED-TTL:PT1H
BEGIN:VTIMEZONE
TZID:America/New_York
BEGIN:DAYLIGHT
TZOFFSETFROM:-0500
TZOFFSETTO:-0400
TZNAME:EDT
DTSTART:20180311T070000
END:DAYLIGHT
BEGIN:STANDARD
TZOFFSETFROM:-0400
TZOFFSETTO:-0500
TZNAME:EST
DTSTART:20181104T060000
END:STANDARD
BEGIN:DAYLIGHT
TZOFFSETFROM:-0500
TZOFFSETTO:-0400
TZNAME:EDT
DTSTART:20190310T070000
END:DAYLIGHT
BEGIN:STANDARD
TZOFFSETFROM:-0400
TZOFFSETTO:-0500
TZNAME:EST
DTSTART:20191103T060000
END:STANDARD
BEGIN:DAYLIGHT
TZOFFSETFROM:-0500
TZOFFSETTO:-0400
TZNAME:EDT
DTSTART:20200308T070000
END:DAYLIGHT
BEGIN:STANDARD
TZOFFSETFROM:-0400
TZOFFSETTO:-0500
TZNAME:EST
DTSTART:20201101T060000
END:STANDARD
END:VTIMEZONE
BEGIN:VEVENT
DTSTART;TZID=America/New_York:20190830T120000
DTEND;TZID=America/New_York:20190830T130000
DTSTAMP:20260423T042948
CREATED:20191018T190340Z
LAST-MODIFIED:20240422T145301Z
UID:32397-1567166400-1567170000@www.cpc.unc.edu
SUMMARY:Ryan Masters: Trends in Drug Availability\, Economic Distress\, and Drug-related Mortality among U.S. Whites
DESCRIPTION:On August 30\, 2019\, Ryan Masters will present “Trends in Drug Availability\, Economic Distress\, and Drug-related Mortality among U.S. Whites” as part of the Carolina Population Series 2019-2020 Interdisciplinary Research Seminar Series.\nRyan Masters is a social demographer by training with interests in examining long-term trends in US morbidity\, chronic diseases\, and mortality rates. \nThe Carolina Population Center hosts a weekly Friday lecture on a topic that enhances our understanding of population-related changes. The 2019-2020 Interdisciplinary Research Seminars will feature talks related to aging trajectories\, health behavior\, the Zika virus\, and the beverage tax – among other topics. \nAll seminars are held from 12:00 – 1:00 pm in Carolina Square Room 2002 at 123 W. Franklin St. unless otherwise indicated. \nInstructors: To arrange for class attendance\, contact CPC (cpc@unc.edu) by the Monday before the seminar. Streaming may be available and must be arranged at least one week in advance.
URL:https://www.cpc.unc.edu/event/ryan-masters-trends-in-drug-availability-economic-distress-and-drug-related-mortality-among-u-s-whites/
LOCATION:Carolina Square Room 2002\, 123 W. Franklin St\, Chapel Hill\, NC\, 27516
CATEGORIES:2019-20 Interdisciplinary Research Seminars,Aging
END:VEVENT
END:VCALENDAR