
BEGIN:VCALENDAR
VERSION:2.0
PRODID:-//Carolina Population Center - ECPv6.15.17//NONSGML v1.0//EN
CALSCALE:GREGORIAN
METHOD:PUBLISH
X-WR-CALNAME:Carolina Population Center
X-ORIGINAL-URL:https://www.cpc.unc.edu
X-WR-CALDESC:Events for Carolina Population Center
REFRESH-INTERVAL;VALUE=DURATION:PT1H
X-Robots-Tag:noindex
X-PUBLISHED-TTL:PT1H
BEGIN:VTIMEZONE
TZID:America/New_York
BEGIN:DAYLIGHT
TZOFFSETFROM:-0500
TZOFFSETTO:-0400
TZNAME:EDT
DTSTART:20190310T070000
END:DAYLIGHT
BEGIN:STANDARD
TZOFFSETFROM:-0400
TZOFFSETTO:-0500
TZNAME:EST
DTSTART:20191103T060000
END:STANDARD
BEGIN:DAYLIGHT
TZOFFSETFROM:-0500
TZOFFSETTO:-0400
TZNAME:EDT
DTSTART:20200308T070000
END:DAYLIGHT
BEGIN:STANDARD
TZOFFSETFROM:-0400
TZOFFSETTO:-0500
TZNAME:EST
DTSTART:20201101T060000
END:STANDARD
BEGIN:DAYLIGHT
TZOFFSETFROM:-0500
TZOFFSETTO:-0400
TZNAME:EDT
DTSTART:20210314T070000
END:DAYLIGHT
BEGIN:STANDARD
TZOFFSETFROM:-0400
TZOFFSETTO:-0500
TZNAME:EST
DTSTART:20211107T060000
END:STANDARD
END:VTIMEZONE
BEGIN:VEVENT
DTSTART;TZID=America/New_York:20200228T120000
DTEND;TZID=America/New_York:20200228T130000
DTSTAMP:20260423T042934
CREATED:20191206T185951Z
LAST-MODIFIED:20240422T145301Z
UID:35440-1582891200-1582894800@www.cpc.unc.edu
SUMMARY:Jessica Su: Wealth\, Assets\, and Unintended Childbearing
DESCRIPTION:On February 28\, 2020\, Jessica Su\, Assistant Professor in the Department of Sociology at the University of North Carolina at Chapel Hill and a Faculty Fellow at the Carolina Population Center\, will present “Wealth\, Assets\, and Unintended Childbearing” as part of the Carolina Population Center’s 2019-2020 Interdisciplinary Research Seminar Series. \nDr. Jessica Houston Su is a sociologist who studies American family life and inequality. As a family demographer\, she uses a sociological lens and quantitative analytic techniques to examine social patterns of family formation and how they are related to the health and well-being of parents and children. Her research contributes to the sociological literature in families\, health\, inequality\, work\, and demography. One stream of her research examines the causes and consequences of unintended and nonmarital fertility. For example\, she examines how both macro and micro economic resources shape patterns of unintended childbearing. She also examines the short- and long-term implications of unintended childbearing for the mental health of parents and children. Another stream of research examines how nonstandard work schedules are related to the well-being of working mothers and their young children. Her research appears in peer-reviewed journals such as Demography\, the Journal of Marriage and Family\, and the Journal of Health and Social Behavior. She received her Ph.D. in Sociology from Cornell University and her B.A. in Sociology from Dartmouth College. \nWe record as many videos as possible. You can see previous events here. \nInstructors: To arrange for class attendance\, contact CPC (cpc@unc.edu) by the Monday before the seminar.  \nThe Carolina Population Center hosts a weekly Friday lecture on a topic that enhances our understanding of population-related changes. The 2019-2020 Interdisciplinary Research Seminars will feature talks related to aging trajectories\, health behavior\, the Zika virus\, and the beverage tax – among other topics. \nAll seminars are held from 12:00 – 1:00 pm in Carolina Square Room 2002 at 123 W. Franklin St. unless otherwise indicated.
URL:https://www.cpc.unc.edu/event/interdisciplinary-research-seminars-jessica-su/
LOCATION:Carolina Square Room 2002\, 123 W. Franklin St\, Chapel Hill\, NC\, 27516
CATEGORIES:2019-20 Interdisciplinary Research Seminars,Aging
ATTACH;FMTTYPE=image/jpeg:https://www.cpc.unc.edu/wp-content/uploads/2019/09/houston-su.jpg
END:VEVENT
END:VCALENDAR