
BEGIN:VCALENDAR
VERSION:2.0
PRODID:-//Carolina Population Center - ECPv6.15.17//NONSGML v1.0//EN
CALSCALE:GREGORIAN
METHOD:PUBLISH
X-WR-CALNAME:Carolina Population Center
X-ORIGINAL-URL:https://www.cpc.unc.edu
X-WR-CALDESC:Events for Carolina Population Center
REFRESH-INTERVAL;VALUE=DURATION:PT1H
X-Robots-Tag:noindex
X-PUBLISHED-TTL:PT1H
BEGIN:VTIMEZONE
TZID:America/New_York
BEGIN:DAYLIGHT
TZOFFSETFROM:-0500
TZOFFSETTO:-0400
TZNAME:EDT
DTSTART:20200308T070000
END:DAYLIGHT
BEGIN:STANDARD
TZOFFSETFROM:-0400
TZOFFSETTO:-0500
TZNAME:EST
DTSTART:20201101T060000
END:STANDARD
BEGIN:DAYLIGHT
TZOFFSETFROM:-0500
TZOFFSETTO:-0400
TZNAME:EDT
DTSTART:20210314T070000
END:DAYLIGHT
BEGIN:STANDARD
TZOFFSETFROM:-0400
TZOFFSETTO:-0500
TZNAME:EST
DTSTART:20211107T060000
END:STANDARD
BEGIN:DAYLIGHT
TZOFFSETFROM:-0500
TZOFFSETTO:-0400
TZNAME:EDT
DTSTART:20220313T070000
END:DAYLIGHT
BEGIN:STANDARD
TZOFFSETFROM:-0400
TZOFFSETTO:-0500
TZNAME:EST
DTSTART:20221106T060000
END:STANDARD
END:VTIMEZONE
BEGIN:VEVENT
DTSTART;TZID=America/New_York:20211015T120000
DTEND;TZID=America/New_York:20211015T130000
DTSTAMP:20260422T061206
CREATED:20210708T173419Z
LAST-MODIFIED:20210803T210328Z
UID:58502-1634299200-1634302800@www.cpc.unc.edu
SUMMARY:Yamnia I. Cortés: Women’s reproductive health across the life course: A marker for cardiovascular disease risk in later life?
DESCRIPTION:On October 15\, 2021\, Yamnia I. Cortés\, Assistant Professor of Cardiovascular Nursing\, Health Disparities\, Women’s Health at the University of North Carolina at Chapel Hill\, will present “Women’s reproductive health across the life course: A marker for cardiovascular disease risk in later life?” as part of the Carolina Population Center’s 2021-2022 Interdisciplinary Research Seminar Series. \n\nDr. Cortés obtained her BA in Biology and completed a concentration in Latino/a Studies at Williams College in 2006. She completed her MPH in the Department of Sociomedical Sciences at Columbia University in 2009\, where she also received her BS/MS in Nursing and FNP-BC. In 2015\, she received her PhD at Columbia University School of Nursing. She was a Postdoctoral Fellow at the University of Pittsburgh Graduate School of Public Health from 2015-2018 in Cardiovascular Epidemiology. Dr. Cortés leads an interdisciplinary research program focusing on cardiovascular disease in midlife women. She has a longstanding interest in understanding how women’s reproductive health may be an indicator of future cardiovascular disease risk\, including measures of subclinical vascular disease. Another area of research focuses on racial/ethnic disparities in women’s reproductive and cardiovascular health\, as well as the role of sociocultural factors. \nAbstract: \nWomen’s reproductive health across the life course: A marker for cardiovascular disease risk in later life? \nIn this presentation Dr. Cortés will provide an overview of the current evidence linking reproductive health\, from menarche thru postmenopause\, to cardiovascular disease (CVD) risk in midlife women and beyond. Using examples from existing literature and her program of research\, she will discuss potential mechanisms and interventions to address inequities in reproductive health and CVD. \n\nWe record as many seminars as possible. You can see previous events here.
URL:https://www.cpc.unc.edu/event/yamnia-i-cortes/
LOCATION:Carolina Square Room 2002\, 123 W. Franklin St\, Chapel Hill\, NC\, 27516
CATEGORIES:2021-22 Interdisciplinary Research Seminars
ATTACH;FMTTYPE=image/jpeg:https://www.cpc.unc.edu/wp-content/uploads/2021/07/Yamnia-Cortes-preferred-200x300.jpg
END:VEVENT
END:VCALENDAR