
BEGIN:VCALENDAR
VERSION:2.0
PRODID:-//Carolina Population Center - ECPv6.15.17//NONSGML v1.0//EN
CALSCALE:GREGORIAN
METHOD:PUBLISH
X-ORIGINAL-URL:https://www.cpc.unc.edu
X-WR-CALDESC:Events for Carolina Population Center
REFRESH-INTERVAL;VALUE=DURATION:PT1H
X-Robots-Tag:noindex
X-PUBLISHED-TTL:PT1H
BEGIN:VTIMEZONE
TZID:America/New_York
BEGIN:DAYLIGHT
TZOFFSETFROM:-0500
TZOFFSETTO:-0400
TZNAME:EDT
DTSTART:20200308T070000
END:DAYLIGHT
BEGIN:STANDARD
TZOFFSETFROM:-0400
TZOFFSETTO:-0500
TZNAME:EST
DTSTART:20201101T060000
END:STANDARD
BEGIN:DAYLIGHT
TZOFFSETFROM:-0500
TZOFFSETTO:-0400
TZNAME:EDT
DTSTART:20210314T070000
END:DAYLIGHT
BEGIN:STANDARD
TZOFFSETFROM:-0400
TZOFFSETTO:-0500
TZNAME:EST
DTSTART:20211107T060000
END:STANDARD
BEGIN:DAYLIGHT
TZOFFSETFROM:-0500
TZOFFSETTO:-0400
TZNAME:EDT
DTSTART:20220313T070000
END:DAYLIGHT
BEGIN:STANDARD
TZOFFSETFROM:-0400
TZOFFSETTO:-0500
TZNAME:EST
DTSTART:20221106T060000
END:STANDARD
END:VTIMEZONE
BEGIN:VEVENT
DTSTART;TZID=America/New_York:20211029T120000
DTEND;TZID=America/New_York:20211029T130000
DTSTAMP:20260422T043534
CREATED:20210708T173636Z
LAST-MODIFIED:20240422T145235Z
UID:58506-1635508800-1635512400@www.cpc.unc.edu
SUMMARY:Will Dow: Female Sex Workers in the Time of COVID: A Longitudinal Study in Tanzania
DESCRIPTION:On October 29\, 2021\, Will Dow\, the Director of the Center on the Economics and Demography of Aging and a Professor of Health Policy and Management at the University of California-Berkeley School of Public Health\, will present “Female Sex Workers in the Time of COVID: A Longitudinal Study in Tanzania” as part of the Carolina Population Center’s 2021-2022 Interdisciplinary Research Seminar Series. \n\nDow\, a celebrated scholar of the economic aspects of health insurance\, health behaviors\, and health and demographic outcomes\, joined the Berkeley faculty in 2004. Since 2005\, he has been the founding associate director of the Berkeley Population Center and\, since 2013\, the director of the Center on the Economics and Demography of Aging. He has also served at the School as division head of Health Policy and Management and as the associate dean for research\, and in 2018-19 served as Interim Dean of the School of Public Health. He is also a Research Associate at the National Bureau of Economic Research\, and previously served as Senior Economist at the White House Council of Economic Advisers. \nDow’s research contributes to improvements in health policy and healthy aging among vulnerable populations locally and globally. He has led teams analyzing California’s pathbreaking health insurance reforms and paid leave policies\, as well as teams designing innovative behavioral economic strategies for preventing HIV and promoting behavior change such as smoking cessation. His global work includes serving as principal investigator of the premier team studying determinants of Costa Rican’s exceptional longevity\, as well as projects in Cuba\, Mexico\, Tanzania and Japan. \n\nTitle and abstract of lecture will be available soon. \nWe record as many seminars as possible. You can see previous events here.
URL:https://www.cpc.unc.edu/event/will-dow/
LOCATION:Carolina Square Room 2002\, 123 W. Franklin St\, Chapel Hill\, NC\, 27516
CATEGORIES:2021-22 Interdisciplinary Research Seminars,Aging
ATTACH;FMTTYPE=image/webp:https://www.cpc.unc.edu/wp-content/uploads/2021/07/web_Dow-William-2018-1-e1566632763355.webp
END:VEVENT
END:VCALENDAR