
BEGIN:VCALENDAR
VERSION:2.0
PRODID:-//Carolina Population Center - ECPv6.15.17//NONSGML v1.0//EN
CALSCALE:GREGORIAN
METHOD:PUBLISH
X-ORIGINAL-URL:https://www.cpc.unc.edu
X-WR-CALDESC:Events for Carolina Population Center
REFRESH-INTERVAL;VALUE=DURATION:PT1H
X-Robots-Tag:noindex
X-PUBLISHED-TTL:PT1H
BEGIN:VTIMEZONE
TZID:America/New_York
BEGIN:DAYLIGHT
TZOFFSETFROM:-0500
TZOFFSETTO:-0400
TZNAME:EDT
DTSTART:20200308T070000
END:DAYLIGHT
BEGIN:STANDARD
TZOFFSETFROM:-0400
TZOFFSETTO:-0500
TZNAME:EST
DTSTART:20201101T060000
END:STANDARD
BEGIN:DAYLIGHT
TZOFFSETFROM:-0500
TZOFFSETTO:-0400
TZNAME:EDT
DTSTART:20210314T070000
END:DAYLIGHT
BEGIN:STANDARD
TZOFFSETFROM:-0400
TZOFFSETTO:-0500
TZNAME:EST
DTSTART:20211107T060000
END:STANDARD
BEGIN:DAYLIGHT
TZOFFSETFROM:-0500
TZOFFSETTO:-0400
TZNAME:EDT
DTSTART:20220313T070000
END:DAYLIGHT
BEGIN:STANDARD
TZOFFSETFROM:-0400
TZOFFSETTO:-0500
TZNAME:EST
DTSTART:20221106T060000
END:STANDARD
END:VTIMEZONE
BEGIN:VEVENT
DTSTART;TZID=America/New_York:20211112T120000
DTEND;TZID=America/New_York:20211112T130000
DTSTAMP:20260420T041718
CREATED:20210708T174335Z
LAST-MODIFIED:20210901T145444Z
UID:58517-1636718400-1636722000@www.cpc.unc.edu
SUMMARY:Ashu Handa: Malawi’s Social Cash Transfer Programme (SCTP)
DESCRIPTION:On November 12\, 2021\, Ashu Handa\, the Lawrence I. Gilbert Distinguished Professor in the Department of Public Policy at UNC and a Faculty Fellow at the Carolina Population Center\, will present his study results from Malawi as part of the Carolina Population Center’s 2021-2022 Interdisciplinary Research Seminar Series. \nHanda is Lawrence I. Gilbert Distinguished Professor in the Department of Public Policy at the UNC and is a human resource economist specializing in household behaviours in developing countries. He has over 20 years’ experience assessing impacts of government poverty alleviation programs in Latin America\, the Caribbean and Africa. He previously served as Chief of Social Policy and Economic Analysis\, UNICEF Innocenti. \nAbout the Transfer Project \nThe Transfer Project is a multi-country cash transfer research initiative. Established in 2008\, the project is a collaborative network between UNICEF Innocenti\, FAO\, University of North Carolina\, UNICEF Regional and Country Offices\, national governments\, and local research partners. The Transfer Project is a thought leader on cash transfers in Africa. We go beyond measuring typical economic outcomes to find out if and how cash transfers impact other aspects of people’s lives.\nWe record as many seminars as possible. You can see previous events here.
URL:https://www.cpc.unc.edu/event/ashton-verdery/
LOCATION:Carolina Square Room 2002\, 123 W. Franklin St\, Chapel Hill\, NC\, 27516
CATEGORIES:2021-22 Interdisciplinary Research Seminars
END:VEVENT
END:VCALENDAR