
BEGIN:VCALENDAR
VERSION:2.0
PRODID:-//Carolina Population Center - ECPv6.15.17//NONSGML v1.0//EN
CALSCALE:GREGORIAN
METHOD:PUBLISH
X-WR-CALNAME:Carolina Population Center
X-ORIGINAL-URL:https://www.cpc.unc.edu
X-WR-CALDESC:Events for Carolina Population Center
REFRESH-INTERVAL;VALUE=DURATION:PT1H
X-Robots-Tag:noindex
X-PUBLISHED-TTL:PT1H
BEGIN:VTIMEZONE
TZID:America/New_York
BEGIN:DAYLIGHT
TZOFFSETFROM:-0500
TZOFFSETTO:-0400
TZNAME:EDT
DTSTART:20210314T070000
END:DAYLIGHT
BEGIN:STANDARD
TZOFFSETFROM:-0400
TZOFFSETTO:-0500
TZNAME:EST
DTSTART:20211107T060000
END:STANDARD
BEGIN:DAYLIGHT
TZOFFSETFROM:-0500
TZOFFSETTO:-0400
TZNAME:EDT
DTSTART:20220313T070000
END:DAYLIGHT
BEGIN:STANDARD
TZOFFSETFROM:-0400
TZOFFSETTO:-0500
TZNAME:EST
DTSTART:20221106T060000
END:STANDARD
BEGIN:DAYLIGHT
TZOFFSETFROM:-0500
TZOFFSETTO:-0400
TZNAME:EDT
DTSTART:20230312T070000
END:DAYLIGHT
BEGIN:STANDARD
TZOFFSETFROM:-0400
TZOFFSETTO:-0500
TZNAME:EST
DTSTART:20231105T060000
END:STANDARD
END:VTIMEZONE
BEGIN:VEVENT
DTSTART;TZID=America/New_York:20220114T120000
DTEND;TZID=America/New_York:20220114T130000
DTSTAMP:20260422T061223
CREATED:20220103T192757Z
LAST-MODIFIED:20220104T191205Z
UID:91276-1642161600-1642165200@www.cpc.unc.edu
SUMMARY:Miyuki Hino: In harm’s way: characterizing exposure to flooding in North Carolina
DESCRIPTION:On January 14\, 2022\, Miyuki Hino\, assistant professor in the Department of City and Regional Planning and an adjunct assistant professor in the Environment\, Ecology\, and Energy Program at the University of North Carolina at Chapel Hill\, will present “In harm’s way: characterizing exposure to flooding in North Carolina” as part of the Carolina Population Center’s 2021-2022 Interdisciplinary Research Seminar Series. \nMiyuki Hino is an assistant professor in the Department of City and Regional Planning and an adjunct assistant professor in the Environment\, Ecology\, and Energy Program at the University of North Carolina at Chapel Hill. Her research examines the linkages between climate hazards\, governance\, and public policy to drive effective and equitable adaptation to climate change. Recent work has focused on the impacts of sea level rise\, the effects of flood risk on property markets\, and the use of managed retreat in adapting to climate change. Miyuki received a Ph.D. in Environment and Resources from Stanford University and a B.S. in Chemical Engineering from Yale University. \nWe record as many seminars as possible. You can see previous events here.
URL:https://www.cpc.unc.edu/event/miyuki-hino/
LOCATION:Carolina Square Room 2002\, 123 W. Franklin St\, Chapel Hill\, NC\, 27516
CATEGORIES:2021-22 Interdisciplinary Research Seminars
END:VEVENT
END:VCALENDAR