
BEGIN:VCALENDAR
VERSION:2.0
PRODID:-//Carolina Population Center - ECPv6.15.17//NONSGML v1.0//EN
CALSCALE:GREGORIAN
METHOD:PUBLISH
X-WR-CALNAME:Carolina Population Center
X-ORIGINAL-URL:https://www.cpc.unc.edu
X-WR-CALDESC:Events for Carolina Population Center
REFRESH-INTERVAL;VALUE=DURATION:PT1H
X-Robots-Tag:noindex
X-PUBLISHED-TTL:PT1H
BEGIN:VTIMEZONE
TZID:America/New_York
BEGIN:DAYLIGHT
TZOFFSETFROM:-0500
TZOFFSETTO:-0400
TZNAME:EDT
DTSTART:20230312T070000
END:DAYLIGHT
BEGIN:STANDARD
TZOFFSETFROM:-0400
TZOFFSETTO:-0500
TZNAME:EST
DTSTART:20231105T060000
END:STANDARD
BEGIN:DAYLIGHT
TZOFFSETFROM:-0500
TZOFFSETTO:-0400
TZNAME:EDT
DTSTART:20240310T070000
END:DAYLIGHT
BEGIN:STANDARD
TZOFFSETFROM:-0400
TZOFFSETTO:-0500
TZNAME:EST
DTSTART:20241103T060000
END:STANDARD
BEGIN:DAYLIGHT
TZOFFSETFROM:-0500
TZOFFSETTO:-0400
TZNAME:EDT
DTSTART:20250309T070000
END:DAYLIGHT
BEGIN:STANDARD
TZOFFSETFROM:-0400
TZOFFSETTO:-0500
TZNAME:EST
DTSTART:20251102T060000
END:STANDARD
END:VTIMEZONE
BEGIN:VEVENT
DTSTART;TZID=America/New_York:20240405T120000
DTEND;TZID=America/New_York:20240405T130000
DTSTAMP:20260421T090659
CREATED:20240103T154804Z
LAST-MODIFIED:20240328T144150Z
UID:144419-1712318400-1712322000@www.cpc.unc.edu
SUMMARY:Kerilyn Schewel: Rethinking the Links between Climate Change\, Development\, and Human Mobility: Insights from Rural Ethiopia
DESCRIPTION:Kerilyn Schewel will present as part of the Carolina Population Center’s 2023-2024 Interdisciplinary Research Seminar Series. \nSchewel is the co-director of the Duke Program on Climate-Related Migration\, a Lecturing Fellow at the Duke Center for International Development and a Senior Researcher at the International Migration Institute.  \nTrained as a sociologist\, her research to examines the root causes of human migration and immobility\, with an emphasis on the themes of gender\, youth\, education\, rural development\, and climate change. She has carried out extensive qualitative and mixed-methods fieldwork in Ethiopia. Her book\, Moved by Modernity: How Development Shapes Migration in Rural Ethiopia\, is forthcoming with Oxford University Press.  \nAt the Duke Center for International Development\, Kerilyn teaches on migration policy and development and leads Rural Development and the Capability to Stay\, a research project funded by the Social Science Research Council. She has also worked with the United States Agency for International Development\, International Labour Organization\, International Organization for Migration\, and the Joint Research Center of the European Commission on policy-oriented publications and dialogue. \nKerilyn holds a PhD in Sociology from the University of Amsterdam (2019)\, an MSc in Migration Studies from the University of Oxford (2014)\, and a BA in Psychology from the University of Virginia (2009). She has held visiting researcher positions at the University of Addis Ababa and Princeton University. 
URL:https://www.cpc.unc.edu/event/kerilyn-schewel/
CATEGORIES:2023-24 Interdisciplinary Research Seminars
ATTACH;FMTTYPE=image/jpeg:https://www.cpc.unc.edu/wp-content/uploads/2024/01/Headshot-2.jpg
END:VEVENT
END:VCALENDAR