
BEGIN:VCALENDAR
VERSION:2.0
PRODID:-//Carolina Population Center - ECPv6.15.17//NONSGML v1.0//EN
CALSCALE:GREGORIAN
METHOD:PUBLISH
X-WR-CALNAME:Carolina Population Center
X-ORIGINAL-URL:https://www.cpc.unc.edu
X-WR-CALDESC:Events for Carolina Population Center
REFRESH-INTERVAL;VALUE=DURATION:PT1H
X-Robots-Tag:noindex
X-PUBLISHED-TTL:PT1H
BEGIN:VTIMEZONE
TZID:America/New_York
BEGIN:DAYLIGHT
TZOFFSETFROM:-0500
TZOFFSETTO:-0400
TZNAME:EDT
DTSTART:20250309T070000
END:DAYLIGHT
BEGIN:STANDARD
TZOFFSETFROM:-0400
TZOFFSETTO:-0500
TZNAME:EST
DTSTART:20251102T060000
END:STANDARD
BEGIN:DAYLIGHT
TZOFFSETFROM:-0500
TZOFFSETTO:-0400
TZNAME:EDT
DTSTART:20260308T070000
END:DAYLIGHT
BEGIN:STANDARD
TZOFFSETFROM:-0400
TZOFFSETTO:-0500
TZNAME:EST
DTSTART:20261101T060000
END:STANDARD
BEGIN:DAYLIGHT
TZOFFSETFROM:-0500
TZOFFSETTO:-0400
TZNAME:EDT
DTSTART:20270314T070000
END:DAYLIGHT
BEGIN:STANDARD
TZOFFSETFROM:-0400
TZOFFSETTO:-0500
TZNAME:EST
DTSTART:20271107T060000
END:STANDARD
END:VTIMEZONE
BEGIN:VEVENT
DTSTART;TZID=America/New_York:20260206T120000
DTEND;TZID=America/New_York:20260206T130000
DTSTAMP:20260423T054131
CREATED:20260113T141652Z
LAST-MODIFIED:20260127T171942Z
UID:148325-1770379200-1770382800@www.cpc.unc.edu
SUMMARY:Interdisciplinary Research Seminar Series: Rui Jie Peng
DESCRIPTION:Rui Jie Peng will present as part of the Carolina Population Center’s 2025-2026 Interdisciplinary Research Seminar Series. \nTopic: The Other Side of Migration: How Qiang Women Reproduce Migration from China’s Margins
URL:https://www.cpc.unc.edu/event/interdisciplinary-research-seminar-series-rui-jie-peng/
LOCATION:Carolina Square Room 2002\, 123 W. Franklin St\, Chapel Hill\, NC\, 27516
CATEGORIES:2025-26 Interdisciplinary Research Seminars
END:VEVENT
END:VCALENDAR