
BEGIN:VCALENDAR
VERSION:2.0
PRODID:-//Carolina Population Center - ECPv6.15.17//NONSGML v1.0//EN
CALSCALE:GREGORIAN
METHOD:PUBLISH
X-WR-CALNAME:Carolina Population Center
X-ORIGINAL-URL:https://www.cpc.unc.edu
X-WR-CALDESC:Events for Carolina Population Center
REFRESH-INTERVAL;VALUE=DURATION:PT1H
X-Robots-Tag:noindex
X-PUBLISHED-TTL:PT1H
BEGIN:VTIMEZONE
TZID:America/New_York
BEGIN:DAYLIGHT
TZOFFSETFROM:-0500
TZOFFSETTO:-0400
TZNAME:EDT
DTSTART:20250309T070000
END:DAYLIGHT
BEGIN:STANDARD
TZOFFSETFROM:-0400
TZOFFSETTO:-0500
TZNAME:EST
DTSTART:20251102T060000
END:STANDARD
BEGIN:DAYLIGHT
TZOFFSETFROM:-0500
TZOFFSETTO:-0400
TZNAME:EDT
DTSTART:20260308T070000
END:DAYLIGHT
BEGIN:STANDARD
TZOFFSETFROM:-0400
TZOFFSETTO:-0500
TZNAME:EST
DTSTART:20261101T060000
END:STANDARD
BEGIN:DAYLIGHT
TZOFFSETFROM:-0500
TZOFFSETTO:-0400
TZNAME:EDT
DTSTART:20270314T070000
END:DAYLIGHT
BEGIN:STANDARD
TZOFFSETFROM:-0400
TZOFFSETTO:-0500
TZNAME:EST
DTSTART:20271107T060000
END:STANDARD
END:VTIMEZONE
BEGIN:VEVENT
DTSTART;TZID=America/New_York:20260220T120000
DTEND;TZID=America/New_York:20260220T130000
DTSTAMP:20260421T090717
CREATED:20251219T172159Z
LAST-MODIFIED:20260218T193919Z
UID:148284-1771588800-1771592400@www.cpc.unc.edu
SUMMARY:Biosocial Symposium and Interdisciplinary Research Seminar Series: Naomi N. Duke
DESCRIPTION:Naomi N. Duke will present as part of the Carolina Population Center’s 2025-2026 Interdisciplinary Research Seminar Series and Biosocial Symposium. \nTopic: From Parent to Child: Intergenerational Patterns in Chronic Disease Outcomes
URL:https://www.cpc.unc.edu/event/biosocial-symposium-and-interdisciplinary-research-seminar-series-naomi-duke/
CATEGORIES:2025-26 Interdisciplinary Research Seminars
END:VEVENT
END:VCALENDAR