
BEGIN:VCALENDAR
VERSION:2.0
PRODID:-//Carolina Population Center - ECPv6.15.17//NONSGML v1.0//EN
CALSCALE:GREGORIAN
METHOD:PUBLISH
X-ORIGINAL-URL:https://www.cpc.unc.edu
X-WR-CALDESC:Events for Carolina Population Center
REFRESH-INTERVAL;VALUE=DURATION:PT1H
X-Robots-Tag:noindex
X-PUBLISHED-TTL:PT1H
BEGIN:VTIMEZONE
TZID:America/New_York
BEGIN:DAYLIGHT
TZOFFSETFROM:-0500
TZOFFSETTO:-0400
TZNAME:EDT
DTSTART:20200308T070000
END:DAYLIGHT
BEGIN:STANDARD
TZOFFSETFROM:-0400
TZOFFSETTO:-0500
TZNAME:EST
DTSTART:20201101T060000
END:STANDARD
BEGIN:DAYLIGHT
TZOFFSETFROM:-0500
TZOFFSETTO:-0400
TZNAME:EDT
DTSTART:20210314T070000
END:DAYLIGHT
BEGIN:STANDARD
TZOFFSETFROM:-0400
TZOFFSETTO:-0500
TZNAME:EST
DTSTART:20211107T060000
END:STANDARD
BEGIN:DAYLIGHT
TZOFFSETFROM:-0500
TZOFFSETTO:-0400
TZNAME:EDT
DTSTART:20220313T070000
END:DAYLIGHT
BEGIN:STANDARD
TZOFFSETFROM:-0400
TZOFFSETTO:-0500
TZNAME:EST
DTSTART:20221106T060000
END:STANDARD
END:VTIMEZONE
BEGIN:VEVENT
DTSTART;TZID=America/New_York:20210910T120000
DTEND;TZID=America/New_York:20210910T130000
DTSTAMP:20260421T074814
CREATED:20210708T170532Z
LAST-MODIFIED:20240422T145235Z
UID:58485-1631275200-1631278800@www.cpc.unc.edu
SUMMARY:Mark Hayward: Understanding Recent Trends in Dementia Prevalence for Older Black and White Americans
DESCRIPTION:On September 10\, 2021\, Mark Hayward\, Professor of Sociology and the director of the Population Health Initiative at the University of Texas at Austin\, will present as part of the Carolina Population Center’s 2021-2022 Interdisciplinary Research Seminar Series. \nDr. Hayward also serves as the Training Director of the Population Research Center. He recently served as the the president of the Southern Demographic Association\, chair of the Aging and Life Course section of the American Sociological Association\, and is the chair of the Sociology of Population section of the ASA. He has served on the boards of the Population Association of America and the Society of Biodemography and Social Biology\, and he was a member and then chair of the Inter-University Consortium for Political and Social Research council. Currently\, he is a member of the Committee on Population\, National Academy of Sciences\, and the Board of Scientific Counselors at the National Center for Health Statistics. He recently served on the National Advisory Committee for the Robert Wood Johnson Foundation’s Health and Society Scholars Program. Hayward received his Ph.D. in sociology from Indiana University in 1981. \nHis primary research addresses how life course exposures and events influence the morbidity and mortality experiences of the adult population. Recent studies have clarified how early life conditions influence socioeconomic\, race and gender disparities in adult morbidity and mortality; the demography of race/ethnic and gender disparities in healthy life expectancy; social inequality in the biomarkers of aging\, and the health consequences of marriage\, divorce\, and widowhood. Most recently\, he has been investigating the fundamental inequalities in adult mortality in the United States arising from educational experience\, differences in these associations by race and gender\, and trends in inequality in mortality. Currently\, he is part of a national scientific team examining the role of federal and state policies shaping the growing inequality in life chances in the US adult population. His research on these topics has been by the National Institute on Aging and the Eunice Kennedy Shriver National Institute on Child Health and Human Development. His recently published work has appeared in the American Journal of Public Health\, Demography\, the Journals of Gerontology: Social Sciences\, the Journal of Health and Social Behavior\, and Social Science and Medicine. \nAbstract \nObjectives: Today’s talk is motivated by recent evidence that dementia prevalence has been declining in the United States. Less clear\, however\, is whether important sociodemographic groups diverged or perhaps contributed in different ways to the overall national trend. For example\, is the downward trend in dementia prevalence evident across the age range (young old compared to the oldest old)? Do Blacks and Whites both experience downward trends in dementia prevalence? Have changes in educational attainment\, as well as other changes in modifiable risk factors for dementia (such as changes in poor childhood circumstances\, health behaviors\, and health conditions)\, had widespread consequences across major race–age groups \nMethods: The Health and Retirement Study (HRS) is used to assess dementia prevalence changes for non-Hispanic Blacks and Whites between 2000-2014 for community dwelling and nursing home residents aged 65 years and older. Cognitive status has been validated using clinical diagnoses and survey scores of a subsample of HRS respondents. The analysis of the dementia prevalence trends is based on logistic regression models predicting the log odds of having dementia as a function of a time-trend variable and a set of relevant covariates. \nResults: Consistent with other studies\, we found significant declines in dementia for Blacks and Whites across the 2000-2014 period. Nonetheless\, these declines were not uniform across age and race groups. Blacks aged 65–74 years had the steepest decline in this period. We also found that improved educational attainment in the population was fundamentally important in understanding declining dementia prevalence in the United States. \nDiscussion: This study shows the importance of improvement in educational attainment in the early part of the twentieth century to understand the downward trend in dementia prevalence in the United States from 2000 to 2014. The downward trend was unrelated to dementia risk \nfactors such as controlled hypertension\, changes in health behaviors\, or changes in early life conditions. This finding has implications not only for understanding current trends in the United States\, but also the potential role of the growth in cognitive ability and functioning in other countries that underwent similar rapid expansions in schooling. \nWe record as many seminars as possible. You can see previous events here.
URL:https://www.cpc.unc.edu/event/mark-hayward/
LOCATION:Carolina Square Room 2002\, 123 W. Franklin St\, Chapel Hill\, NC\, 27516
CATEGORIES:2021-22 Interdisciplinary Research Seminars,Aging
ATTACH;FMTTYPE=image/png:https://www.cpc.unc.edu/wp-content/uploads/2021/07/200x300.png
END:VEVENT
BEGIN:VEVENT
DTSTART;TZID=America/New_York:20210827T120000
DTEND;TZID=America/New_York:20210827T130000
DTSTAMP:20260421T074814
CREATED:20210708T170254Z
LAST-MODIFIED:20210816T152542Z
UID:58482-1630065600-1630069200@www.cpc.unc.edu
SUMMARY:CANCELED: Michael H. Esposito: Racism and Quantitative Counterfactual Inference: Historical and Life-Course Examples
DESCRIPTION:This event has been canceled and will be rescheduled for the spring semester.  \nOn August 27\, 2021\, Michael H. Esposito\, Assistant Professor of Sociology at Washington University in St. Louis\, will present “Racism and Quantitative Counterfactual Inference: Historical and Life-Course Examples” as part of the Carolina Population Center’s 2021-2022 Interdisciplinary Research Seminar Series. \nDr. Esposito’s research examines how structural racism shapes population health. His work investigates how macro-level economic\, social and ideological systems—and the institutions that comprise them—are arranged in ways that confer significant advantages for individuals interpreted as white; penalties for individuals interpreted as non-white; and how these systematically produced rewards/risk coalesce and generate health inequity among individuals. This work includes: (1) studies that examine how the actions of race-cognizant institutions (like law enforcement agencies) contribute to health disparities; (2) studies that consider how multiple racialized systems interact to gate access to critical health contexts; and (3) projects that examine how structural racism enters into and distorts social processes that are foundational to well-being (e.g.\, the association among education and health). He specializes in statistical methods—particularly Bayesian approaches and techniques for drawing causal(-ish!) inferences from observational data. \nAbstract \nWhile evidence suggests an association between redlining and population health\, we still lack empirical accounts of how this historical act of racialized violence arrived on contemporary inequities. In this study\, we use a counterfactual-based mediation framework to evaluate 1) how the spatial marking of places\, codified by redlining\, translated into historical trajectories influencing life expectancy and 2) how racialized disparities in life expectancy might look if Black working-class neighborhoods were exposed to histories of White professional-class neighborhoods. We find significant disparities in life expectancy between redlined geographies that can be traced along urban renewal\, racialized economic isolation\, and property valuation in the following decades. Still\, only a small fraction of the total disparity between Black working- class and white professional-class communities is explained by this historical exposure. Policy implications include targeting resources to formerly redlined neighborhoods\, but also dismantling broader racist logics of capital accumulation codified in more abstracted political economies of place. \nWe record as many seminars as possible. You can see previous events here.
URL:https://www.cpc.unc.edu/event/michael-h-esposito/
LOCATION:Carolina Square Room 2002\, 123 W. Franklin St\, Chapel Hill\, NC\, 27516
CATEGORIES:2021-22 Interdisciplinary Research Seminars
ATTACH;FMTTYPE=image/png:https://www.cpc.unc.edu/wp-content/uploads/2021/07/img-1751_orig.png
END:VEVENT
END:VCALENDAR