
BEGIN:VCALENDAR
VERSION:2.0
PRODID:-//Carolina Population Center - ECPv6.15.17//NONSGML v1.0//EN
CALSCALE:GREGORIAN
METHOD:PUBLISH
X-WR-CALNAME:Carolina Population Center
X-ORIGINAL-URL:https://www.cpc.unc.edu
X-WR-CALDESC:Events for Carolina Population Center
REFRESH-INTERVAL;VALUE=DURATION:PT1H
X-Robots-Tag:noindex
X-PUBLISHED-TTL:PT1H
BEGIN:VTIMEZONE
TZID:America/New_York
BEGIN:DAYLIGHT
TZOFFSETFROM:-0500
TZOFFSETTO:-0400
TZNAME:EDT
DTSTART:20210314T070000
END:DAYLIGHT
BEGIN:STANDARD
TZOFFSETFROM:-0400
TZOFFSETTO:-0500
TZNAME:EST
DTSTART:20211107T060000
END:STANDARD
BEGIN:DAYLIGHT
TZOFFSETFROM:-0500
TZOFFSETTO:-0400
TZNAME:EDT
DTSTART:20220313T070000
END:DAYLIGHT
BEGIN:STANDARD
TZOFFSETFROM:-0400
TZOFFSETTO:-0500
TZNAME:EST
DTSTART:20221106T060000
END:STANDARD
BEGIN:DAYLIGHT
TZOFFSETFROM:-0500
TZOFFSETTO:-0400
TZNAME:EDT
DTSTART:20230312T070000
END:DAYLIGHT
BEGIN:STANDARD
TZOFFSETFROM:-0400
TZOFFSETTO:-0500
TZNAME:EST
DTSTART:20231105T060000
END:STANDARD
END:VTIMEZONE
BEGIN:VEVENT
DTSTART;TZID=America/New_York:20221104T120000
DTEND;TZID=America/New_York:20221104T130000
DTSTAMP:20260422T061743
CREATED:20220823T174538Z
LAST-MODIFIED:20240422T145201Z
UID:126500-1667563200-1667566800@www.cpc.unc.edu
SUMMARY:Adina Zeki Al Hazzouri: Social determinants of cognitive aging & inequalities: Challenges and Opportunities
DESCRIPTION:On November 4\, 2022\, Adina Zeki Al Hazzouri (Epidemiology) will present as part of the Carolina Population Center’s 2022-2023 Interdisciplinary Research Seminar Series. \n\n\n\nBio: Dr. Zeki Al Hazzouri is an epidemiologist and the overarching goal of her research program is to improve the understanding of how social and cardiovascular factors experienced across the life-course influence cognitive function\, Alzheimer’s disease and Alzheimer’s related dementias (AD/ADRD). An important theme of her work focuses on poverty and financial well-being as social determinants of cognitive aging. Another theme of her work also focuses on causal inference methodologies that address challenges in ADRD research including\, inverse probability weighting\, trial emulation\, and regression discontinuity designs. Her work leverages innovative methods such as pooling\, cross-walking and harmonization of existing epidemiological cohorts to address life course ADRD research questions.
URL:https://www.cpc.unc.edu/event/adina-zeki-al-hazzouri/
LOCATION:Carolina Square Room 2002\, 123 W. Franklin St\, Chapel Hill\, NC\, 27516
CATEGORIES:2022-23 Interdisciplinary Research Seminars,Aging
END:VEVENT
BEGIN:VEVENT
DTSTART;TZID=America/New_York:20221111T120000
DTEND;TZID=America/New_York:20221111T130000
DTSTAMP:20260422T061743
CREATED:20220823T175924Z
LAST-MODIFIED:20221003T125811Z
UID:126502-1668168000-1668171600@www.cpc.unc.edu
SUMMARY:Krystale Littlejohn: Just Get on the Pill: The Uneven Burden of Reproductive Politics
DESCRIPTION:On November 11\, 2022\, Krystale Littlejohn will present “Just Get on the Pill: The Uneven Burden of Reproductive Politics” as part of the Carolina Population Center’s 2022-2023 Interdisciplinary Research Seminar Series. \nLittlejohn‘s work examines race\, gender\, and reproduction. She is particularly interested in investigating how cultural categories shape behavior in intimate relationships and examining the consequences of these behaviors for health outcomes. Her work has been published in Demography\, Gender & Society\, and Journal of Health and Social Behavior\, among other outlets. Her research has been supported by funding from the ASA Minority Fellowship Program\, the American Association of University Women\, and the Society of Family Planning. She is currently working on a book project\, Just Get on the Pill: Gender\, Compulsory Birth Control\, and Reproductive Injustice (under contract with University of California Press)\, where she uses in-depth interviews with young women to examine how taken-for-granted ideas about gender structure inequality in pregnancy prevention.
URL:https://www.cpc.unc.edu/event/krystale-littlejohn/
LOCATION:Carolina Square Room 2002\, 123 W. Franklin St\, Chapel Hill\, NC\, 27516
CATEGORIES:2022-23 Interdisciplinary Research Seminars
END:VEVENT
BEGIN:VEVENT
DTSTART;TZID=America/New_York:20221118T120000
DTEND;TZID=America/New_York:20221118T130000
DTSTAMP:20260422T061743
CREATED:20220829T132956Z
LAST-MODIFIED:20220829T132956Z
UID:126512-1668772800-1668776400@www.cpc.unc.edu
SUMMARY:Bonnie Shook-Sa: Survey Sampling Methods in HIV Research
DESCRIPTION:On November 18\, 2022\, Bonnie Shook-Sa will present “Survey Sampling Methods in HIV Research” as part of the Carolina Population Center’s 2022-2023 Interdisciplinary Research Seminar Series. \n\nBonnie Shook-Sa is an assistant professor in the Department of Biostatistics at UNC. She is affiliated with the Collaborative Studies Coordinating Center (CSCC) and is a participating faculty member with the Center for AIDS Research (CFAR) Biostatistics Core. She has over 12 years of experience in collaborative public health research and statistical methods development. Her research interests include survey sampling and causal inference methods. Her collaborative research has spanned numerous areas of public health\, including infectious disease (HIV and SARS-CoV-2)\, victimization and criminal justice\, drug use\, and tobacco consumption.
URL:https://www.cpc.unc.edu/event/bonnie-shook-sa-survey-sampling-methods-in-hiv-research/
LOCATION:Carolina Square Room 2002\, 123 W. Franklin St\, Chapel Hill\, NC\, 27516
CATEGORIES:2022-23 Interdisciplinary Research Seminars
END:VEVENT
END:VCALENDAR