
BEGIN:VCALENDAR
VERSION:2.0
PRODID:-//Carolina Population Center - ECPv6.15.17//NONSGML v1.0//EN
CALSCALE:GREGORIAN
METHOD:PUBLISH
X-WR-CALNAME:Carolina Population Center
X-ORIGINAL-URL:https://www.cpc.unc.edu
X-WR-CALDESC:Events for Carolina Population Center
REFRESH-INTERVAL;VALUE=DURATION:PT1H
X-Robots-Tag:noindex
X-PUBLISHED-TTL:PT1H
BEGIN:VTIMEZONE
TZID:America/New_York
BEGIN:DAYLIGHT
TZOFFSETFROM:-0500
TZOFFSETTO:-0400
TZNAME:EDT
DTSTART:20210314T070000
END:DAYLIGHT
BEGIN:STANDARD
TZOFFSETFROM:-0400
TZOFFSETTO:-0500
TZNAME:EST
DTSTART:20211107T060000
END:STANDARD
BEGIN:DAYLIGHT
TZOFFSETFROM:-0500
TZOFFSETTO:-0400
TZNAME:EDT
DTSTART:20220313T070000
END:DAYLIGHT
BEGIN:STANDARD
TZOFFSETFROM:-0400
TZOFFSETTO:-0500
TZNAME:EST
DTSTART:20221106T060000
END:STANDARD
BEGIN:DAYLIGHT
TZOFFSETFROM:-0500
TZOFFSETTO:-0400
TZNAME:EDT
DTSTART:20230312T070000
END:DAYLIGHT
BEGIN:STANDARD
TZOFFSETFROM:-0400
TZOFFSETTO:-0500
TZNAME:EST
DTSTART:20231105T060000
END:STANDARD
END:VTIMEZONE
BEGIN:VEVENT
DTSTART;TZID=America/New_York:20220923T120000
DTEND;TZID=America/New_York:20220923T130000
DTSTAMP:20260422T132835
CREATED:20220823T174108Z
LAST-MODIFIED:20220823T174108Z
UID:126495-1663934400-1663938000@www.cpc.unc.edu
SUMMARY:Marcos Rangel\, First Impressions Matter: Evidence from Elementary-School Teachers
DESCRIPTION:On September 23\, 2022\, Marcos Rangel will present “First Impressions Matter: Evidence from Elementary-School Teachers” as part of the Carolina Population Center’s 2022-2023 Interdisciplinary Research Seminar Series. \nRangel is an applied microeconomist. His research focuses on the patterns of accumulation of human capital with particular attention to the intra-family decision process (parents and children)\, to the impact of policies to foment education and health\, and to racial differentials. His research has contributed to a better understanding of how the negotiations between mother and fathers\, and also how families insert themselves into societies\, influence the allocation of resources towards investment in human capital of children. \n\n\nAbstract:\n\n\nWe study the empirical relevance of first impressions in the context of education. We find that teachers who begin their careers in classrooms with large White-Black incoming score differentials carry negative views into evaluations of future cohorts of Black students relative to their White classmates. Our evidence is based on novel data on blind evaluations and non-blind public school teacher assessments of fourth and fifth graders in North Carolina. Teachers’ perceptions are particularly sensitive to relatively low-performing Black students in early classrooms\, but not to relatively high-performing Black students. Since teacher expectations can shape grading patterns and sorting into academic tracks as well as students’ own beliefs and behaviors\, these findings suggest an important link between specific novice teachers’ initial experiences and the persistence of racial gaps in educational achievement and attainment.
URL:https://www.cpc.unc.edu/event/marcos-rangel-first-impressions-matter-evidence-from-elementary-school-teachers/
LOCATION:Carolina Square Room 2002\, 123 W. Franklin St\, Chapel Hill\, NC\, 27516
CATEGORIES:2022-23 Interdisciplinary Research Seminars
END:VEVENT
END:VCALENDAR