
BEGIN:VCALENDAR
VERSION:2.0
PRODID:-//Carolina Population Center - ECPv6.15.17//NONSGML v1.0//EN
CALSCALE:GREGORIAN
METHOD:PUBLISH
X-ORIGINAL-URL:https://www.cpc.unc.edu
X-WR-CALDESC:Events for Carolina Population Center
REFRESH-INTERVAL;VALUE=DURATION:PT1H
X-Robots-Tag:noindex
X-PUBLISHED-TTL:PT1H
BEGIN:VTIMEZONE
TZID:America/New_York
BEGIN:DAYLIGHT
TZOFFSETFROM:-0500
TZOFFSETTO:-0400
TZNAME:EDT
DTSTART:20220313T070000
END:DAYLIGHT
BEGIN:STANDARD
TZOFFSETFROM:-0400
TZOFFSETTO:-0500
TZNAME:EST
DTSTART:20221106T060000
END:STANDARD
BEGIN:DAYLIGHT
TZOFFSETFROM:-0500
TZOFFSETTO:-0400
TZNAME:EDT
DTSTART:20230312T070000
END:DAYLIGHT
BEGIN:STANDARD
TZOFFSETFROM:-0400
TZOFFSETTO:-0500
TZNAME:EST
DTSTART:20231105T060000
END:STANDARD
BEGIN:DAYLIGHT
TZOFFSETFROM:-0500
TZOFFSETTO:-0400
TZNAME:EDT
DTSTART:20240310T070000
END:DAYLIGHT
BEGIN:STANDARD
TZOFFSETFROM:-0400
TZOFFSETTO:-0500
TZNAME:EST
DTSTART:20241103T060000
END:STANDARD
END:VTIMEZONE
BEGIN:VEVENT
DTSTART;TZID=America/New_York:20230224T120000
DTEND;TZID=America/New_York:20230224T130000
DTSTAMP:20260422T180009
CREATED:20230111T143513Z
LAST-MODIFIED:20230111T143513Z
UID:127449-1677240000-1677243600@www.cpc.unc.edu
SUMMARY:Larissa Jennings Mayo-Wilson
DESCRIPTION:On February 24\, 2023\, Larissa Jennings Mayo-Wilson will present as part of the Carolina Population Center’s 2022-2023 Interdisciplinary Research Seminar Series. \n\nLarissa Jennings Mayo-Wilson\, PhD MHS\, is an Associate Professor in the Department of Health Behavior and Department of Maternal and Child Health at the University of North Carolina Gillings School of Global Public Health. She is a sexual and reproductive health behavioral scientist with methodological skills in epidemiology\, biostatistics\, and qualitative science. \nDr. Jennings Mayo-Wilson’s research focuses on improving sexual and reproductive health (SRH)\, including HIV prevention\, in vulnerable adolescents and young adults in the U.S. and sub-Saharan Africa. Specifically\, she is interested in: (i) design and evaluation of economic-strengthening interventions to reduce inequities in HIV/SRH\, including microenterprise\, cash transfers\, savings\, and financial incentives; (ii) analysis of economic and structural causes of disparities in HIV/SRH\, and (iii) use of mobile health technologies to improve implementation and evaluation of HIV/SRH interventions. Her research also examines socio-economic influences on maternal health care-seeking and uptake of assisted reproductive technologies.
URL:https://www.cpc.unc.edu/event/larissa-jennings-mayo-wilson/
LOCATION:Carolina Square Room 2002\, 123 W. Franklin St\, Chapel Hill\, NC\, 27516
CATEGORIES:2022-23 Interdisciplinary Research Seminars
END:VEVENT
BEGIN:VEVENT
DTSTART;TZID=America/New_York:20230303T120000
DTEND;TZID=America/New_York:20230303T130000
DTSTAMP:20260422T180009
CREATED:20230103T164729Z
LAST-MODIFIED:20230103T164729Z
UID:127378-1677844800-1677848400@www.cpc.unc.edu
SUMMARY:Kristen Lindquist
DESCRIPTION:On March 3\, 2023\, Kristen Lindquist will present as part of the Carolina Population Center’s 2022-2023 Interdisciplinary Research Seminar Series. \nKristen Lindquist\, PhD. is a Professor of Psychology and Neuroscience at the University of North Carolina\, Chapel Hill. Her research seeks to understand the psychological and neural basis of emotions\, moods\, and feelings. Her on-going work uses tools from social cognition\, physiology\, neuroscience\, and big data methods to examine how emotions emerge from the confluence of the body\, brain\, and culture.
URL:https://www.cpc.unc.edu/event/kristen-lindquist/
LOCATION:Carolina Square Room 2002\, 123 W. Franklin St\, Chapel Hill\, NC\, 27516
CATEGORIES:2022-23 Interdisciplinary Research Seminars
END:VEVENT
BEGIN:VEVENT
DTSTART;TZID=America/New_York:20230310T120000
DTEND;TZID=America/New_York:20230310T130000
DTSTAMP:20260422T180009
CREATED:20230103T163113Z
LAST-MODIFIED:20230111T145020Z
UID:127370-1678449600-1678453200@www.cpc.unc.edu
SUMMARY:Joel Gittelsohn: Environmental interventions to improve healthy food access and prevent obesity in Baltimore: Moving beyond corner stores
DESCRIPTION:On January 27\, 2023\, Joel Gittelsohn will present “Environmental interventions to improve healthy food access and prevent obesity in Baltimore: Moving beyond corner stores” as part of the Carolina Population Center’s 2022-2023 Interdisciplinary Research Seminar Series. \n\n\n\n\nJoel Gittelsohn\, PhD\, MS\, is a medical anthropologist and public health nutritionist who develops programs to improve food access and reduce risk for chronic diseases. \n\n\n\n 
URL:https://www.cpc.unc.edu/event/joel-gittelsohn/
LOCATION:Carolina Square Room 2002\, 123 W. Franklin St\, Chapel Hill\, NC\, 27516
CATEGORIES:2022-23 Interdisciplinary Research Seminars
END:VEVENT
BEGIN:VEVENT
DTSTART;TZID=America/New_York:20230324T120000
DTEND;TZID=America/New_York:20230324T130000
DTSTAMP:20260422T180009
CREATED:20230103T164938Z
LAST-MODIFIED:20230103T164938Z
UID:127380-1679659200-1679662800@www.cpc.unc.edu
SUMMARY:Hudson Santos
DESCRIPTION:On March 24\, 2023\, Hudson Santos will present as part of the Carolina Population Center’s 2022-2023 Interdisciplinary Research Seminar Series. \n\n\nHudson Santos is Professor and the Dolores J. Chambreau Endowed Chair in Nursing at the University of Miami School of Nursing and Health Studies (SONHS). Born in Brazil\, Dr. Santos immigrated to the US to complete a postdoctoral fellowship at Duke University School of Nursing (2015) after obtaining a Bachelor of Science in Nursing from the State University of Paraiba\, and a PhD in Nursing Science from the University of Sao Paulo. As a doctoral student\, he spent a year as visiting scholar between the University of British Columbia at Vancouver and the University of North Carolina at Chapel Hill (UNC-CH). Prior to joining the University of Miami\, Dr. Santos was a tenured distinguished associate professor and director of the biobehavioral laboratory at UNC-CH School of Nursing. \nDr. Santos is an internationally renowned nurse researcher and principal investigator of multiple funded studies focused on the mechanisms of social determinants of health (SDOH) and developmental health trajectories for at-risk populations\, with a strong emphasis on Latinx communities. Specifically\, he explores how SDOH\, and adverse life events affect maternal-child health and developmental outcomes among at-risk children. His methodological expertise includes bio-social studies\, longitudinal cohorts\, and clinical interventions. His work bridges the gap between the biological and social domains in nursing science\, addressing the developmental origins of health and disease.
URL:https://www.cpc.unc.edu/event/hudson-santos/
LOCATION:Carolina Square Room 2002\, 123 W. Franklin St\, Chapel Hill\, NC\, 27516
CATEGORIES:2022-23 Interdisciplinary Research Seminars
END:VEVENT
BEGIN:VEVENT
DTSTART;TZID=America/New_York:20230421T120000
DTEND;TZID=America/New_York:20230421T130000
DTSTAMP:20260422T180009
CREATED:20230103T165736Z
LAST-MODIFIED:20240422T145235Z
UID:127384-1682078400-1682082000@www.cpc.unc.edu
SUMMARY:Sarah Burgard: Remembrance of things past? Measuring life course exposures as determinants of health
DESCRIPTION:On April 21\, 2022\, Sarah Burgard will present “Remembrance of things past? Measuring life course exposures as determinants of health” as part of the Carolina Population Center’s 2022-2023 Interdisciplinary Research Seminar Series. \nBio: I am a professor of Sociology and by courtesy\, of Epidemiology and Public Policy. I am also a Research Professor in the Population Studies Center and Research Affiliate in the Survey Research Center\, both at the Institute for Social Research\, and am the incoming director of the Population Studies Center. I have a publication record in social and health science journals in the areas of the life course determinants of health and wellbeing in later life and related health disparities\, and have received funding for my research and for data collection in these areas from NIH and private foundations. I am currently an affiliate and Advisory Panel member for the Michigan Center for the Demography of Aging (MICDA)\, a Technical Review Committee member of the National Longitudinal Studies program of the Bureau of Labor Statistics\, a former member on the Population Association Board of Directors. I also led implementation of the Institute for Social Research Strategic plan for Diversity\, Equity and Inclusion for three years. \nI conduct research on the social stratification of aging and health with population-based survey data\, and have published extensively on the social factors underlying health disparities by socioeconomic status\, gender\, and race/ethnicity across the life course. I have focused particularly on the links between employment and health in later life\, including mental health\, chronic disease and overall health status\, and health behaviors. Some of my recent research and funding has centered on understanding these questions in the context of economic recessions\, which disrupt career\, economic\, and health paths for many adults\, but especially for socioeconomically-marginalized groups. I am PI of the 2020 Americans’ Changing Lives Study ACLLIFE wave\, which will collect full retrospective life histories including extensive information about life events from a cohort now in their late 50s\, and a PI of the Michigan Recession and Recovery Study\, a panel survey of adults in Southeast Michigan that has been tracking the life events and mental health of these individuals in the wake of the Great Recession of 2007-2009. Using these data\, I have published on the influences of job loss\, financial shocks\, debt\, housing instability\, and material hardship\, with a focus on creating life course measures of cumulative disadvantage for which retrospective or prospective life history data are essential.
URL:https://www.cpc.unc.edu/event/sarah-burgard/
LOCATION:Carolina Square Room 2002\, 123 W. Franklin St\, Chapel Hill\, NC\, 27516
CATEGORIES:2022-23 Interdisciplinary Research Seminars,Aging
END:VEVENT
BEGIN:VEVENT
DTSTART;TZID=America/New_York:20230428T120000
DTEND;TZID=America/New_York:20230428T130000
DTSTAMP:20260422T180009
CREATED:20230103T170030Z
LAST-MODIFIED:20230224T213128Z
UID:127386-1682683200-1682686800@www.cpc.unc.edu
SUMMARY:Julia Behrman: Family Size Ideals in Flux? Change and Variation in the United States
DESCRIPTION:On April 28\, 2023\, Julia Behrman (Northwestern) will present “Family Size Ideals in Flux? Change and Variation in the United States” as part of the Carolina Population Center’s 2022-2023 Interdisciplinary Research Seminar Series. \nJulia Behrman’s research investigates the causes and consequences of family change in a global perspective. Her research explores how the institution of the family shapes and is shaped by key social phenomenon in four main areas: (i) educational expansion; (ii) environmental change\, natural disaster and climate shocks; (iii) expansion of women’s labor force participation; and (iv) migration. Much of her work is motivated by questions of power: who has power within families and how is it manifested? What events or experiences lead to changes in power dynamics within families? Do changes in family structures alleviate or perpetuate disadvantage between and within families? \nBehrman’s research has received funding from the National Science Foundation and South African Medical Research Council and her work has received awards from American Sociological Association Sections on Education\, Population\, and Development; the Society for the Study of Social Problems; the Population Association of America; and the Sociologist AIDS Network. Prior to starting at Northwestern\, she was a Postdoctoral Prize Research Fellow in Sociology at Nuffield College\, University of Oxford. She received her PhD from New York University in 2017.
URL:https://www.cpc.unc.edu/event/julia-behrman-family-size-ideals-in-flux-change-and-variation-in-the-united-states/
LOCATION:Carolina Square Room 2002\, 123 W. Franklin St\, Chapel Hill\, NC\, 27516
CATEGORIES:2022-23 Interdisciplinary Research Seminars
END:VEVENT
END:VCALENDAR