
BEGIN:VCALENDAR
VERSION:2.0
PRODID:-//Carolina Population Center - ECPv6.15.17//NONSGML v1.0//EN
CALSCALE:GREGORIAN
METHOD:PUBLISH
X-WR-CALNAME:Carolina Population Center
X-ORIGINAL-URL:https://www.cpc.unc.edu
X-WR-CALDESC:Events for Carolina Population Center
REFRESH-INTERVAL;VALUE=DURATION:PT1H
X-Robots-Tag:noindex
X-PUBLISHED-TTL:PT1H
BEGIN:VTIMEZONE
TZID:America/New_York
BEGIN:DAYLIGHT
TZOFFSETFROM:-0500
TZOFFSETTO:-0400
TZNAME:EDT
DTSTART:20190310T070000
END:DAYLIGHT
BEGIN:STANDARD
TZOFFSETFROM:-0400
TZOFFSETTO:-0500
TZNAME:EST
DTSTART:20191103T060000
END:STANDARD
BEGIN:DAYLIGHT
TZOFFSETFROM:-0500
TZOFFSETTO:-0400
TZNAME:EDT
DTSTART:20200308T070000
END:DAYLIGHT
BEGIN:STANDARD
TZOFFSETFROM:-0400
TZOFFSETTO:-0500
TZNAME:EST
DTSTART:20201101T060000
END:STANDARD
BEGIN:DAYLIGHT
TZOFFSETFROM:-0500
TZOFFSETTO:-0400
TZNAME:EDT
DTSTART:20210314T070000
END:DAYLIGHT
BEGIN:STANDARD
TZOFFSETFROM:-0400
TZOFFSETTO:-0500
TZNAME:EST
DTSTART:20211107T060000
END:STANDARD
END:VTIMEZONE
BEGIN:VEVENT
DTSTART;TZID=America/New_York:20200110T120000
DTEND;TZID=America/New_York:20200110T130000
DTSTAMP:20260421T073302
CREATED:20191206T190321Z
LAST-MODIFIED:20240422T145301Z
UID:35433-1578657600-1578661200@www.cpc.unc.edu
SUMMARY:Add Health Team: Add Health Wave V: New Directions\, New Data
DESCRIPTION:On Friday\, January 10\, the Add Health Team will present “Add Health Wave V: New Directions\, New Data” as part of the Carolina Population Center’s 2019-2020 Interdisciplinary Research Seminar Series. \nThe National Longitudinal Study of Adolescent to Adult Health (Add Health) is a longitudinal study of a nationally representative sample of adolescents in grades 7-12 in the United States during the 1994-95 school year. The Add Health cohort has been followed into young adulthood with four in-home interviews\, the most recent in 2008\, when the sample was aged 24-32. Add Health re-interviewed cohort members in a Wave V follow-up from 2016-2018 to collect social\, environmental\, behavioral\, and biological data with which to track the emergence of chronic disease as the cohort moves through their fourth decade of life. \nAdd Health combines longitudinal survey data on respondents’ social\, economic\, psychological and physical well-being with contextual data on the family\, neighborhood\, community\, school\, friendships\, peer groups\, and romantic relationships\, providing unique opportunities to study how social environments and behaviors in adolescence are linked to health and achievement outcomes in young adulthood. The fourth wave of interviews expanded the collection of biological data in Add Health to understand the social\, behavioral\, and biological linkages in health trajectories as the Add Health cohort ages through adulthood\, and the fifth wave of data collection continues this biological data expansion. \nStreaming: https://zoom.us/j/990224137 \nA recording will also be available after the event. You can see previous events here. \nInstructors: To arrange for class attendance\, contact CPC (cpc@unc.edu) by the Monday before the seminar.  \nThe Carolina Population Center hosts a weekly Friday lecture on a topic that enhances our understanding of population-related changes. The 2019-2020 Interdisciplinary Research Seminars will feature talks related to aging trajectories\, health behavior\, the Zika virus\, and the beverage tax – among other topics. \nAll seminars are held from 12:00 – 1:00 pm in Carolina Square Room 2002 at 123 W. Franklin St. unless otherwise indicated.
URL:https://www.cpc.unc.edu/event/add-health-team-carolina-population-center/
LOCATION:Carolina Square Room 2002\, 123 W. Franklin St\, Chapel Hill\, NC\, 27516
CATEGORIES:2019-20 Interdisciplinary Research Seminars,Aging
ATTACH;FMTTYPE=image/png:https://www.cpc.unc.edu/wp-content/uploads/2019/12/logo.png
END:VEVENT
BEGIN:VEVENT
DTSTART;TZID=America/New_York:20200117T120000
DTEND;TZID=America/New_York:20200117T130000
DTSTAMP:20260421T073302
CREATED:20191206T190616Z
LAST-MODIFIED:20240422T145301Z
UID:35434-1579262400-1579266000@www.cpc.unc.edu
SUMMARY:Myron Cohen: Prevention of HIV 2020
DESCRIPTION:On January 17\, 2020\, Myron Cohen\, the Associate Vice Chancellor for Global Health and Medical Affairs; the Yeargan-Bate Distinguished Professor of Medicine\, Microbiology and Immunology\, and Epidemiology; and the Director of the Institute for Global Health & Infectious Diseases\, University of North Carolina at Chapel Hill\, will present “Prevention of HIV 2020” as part of the Carolina Population Center’s 2019-2020 Interdisciplinary Research Seminar Series. \nDr. Cohen’s research work focuses on the transmission and prevention of transmission of STD pathogens including HIV. Much of his work has been conducted at the research sites he and his group have developed in Lilongwe\, Malawi and Beijing\, China. Dr. Cohen and his coworkers have identified the concentration of HIV in genital secretions required for transmission of HIV ( NEJM 336:1072\, 1997; AIDS 15: 621\, 2001)\, and the effects of genital tract inflammation on HIV (Lancet 349: 1868\, 1997). \nAlong with Sylvia Becker-Dreps\, MD\, MPH\, Natalie Bowman\, MD\, MPH\, and Filemon Bucardo of the University of Nicaragua-Leόn\, Dr. Cohen is studying Zika as a sexually transmitted disease. \nStreaming: https://zoom.us/j/490091454 \nA recording will be available after the event. You can see previous events here. \nInstructors: To arrange for class attendance\, contact CPC (cpc@unc.edu) by the Monday before the seminar.  \nThe Carolina Population Center hosts a weekly Friday lecture on a topic that enhances our understanding of population-related changes. The 2019-2020 Interdisciplinary Research Seminars will feature talks related to aging trajectories\, health behavior\, the Zika virus\, and the beverage tax – among other topics. \nAll seminars are held from 12:00 – 1:00 pm in Carolina Square Room 2002 at 123 W. Franklin St. unless otherwise indicated.
URL:https://www.cpc.unc.edu/event/myron-cohen-director-of-the-institute-for-global-health-and-infectious-diseases/
LOCATION:Carolina Square Room 2002\, 123 W. Franklin St\, Chapel Hill\, NC\, 27516
CATEGORIES:2019-20 Interdisciplinary Research Seminars,Aging
ATTACH;FMTTYPE=image/jpeg:https://www.cpc.unc.edu/wp-content/uploads/2019/12/MikeCohenNAMheadshotsJCL201-e1575662088807.jpg
END:VEVENT
BEGIN:VEVENT
DTSTART;TZID=America/New_York:20200124T120000
DTEND;TZID=America/New_York:20200124T130000
DTSTAMP:20260421T073302
CREATED:20191206T190908Z
LAST-MODIFIED:20240422T145301Z
UID:35435-1579867200-1579870800@www.cpc.unc.edu
SUMMARY:Rachel Margolis: The Effects of Gender Equality-Focused Parental Benefits on Union Stability
DESCRIPTION:On January 24\, 2020\, Rachel Margolis will present “The Effects of Gender Equality-Focused Parental Benefits on Union Stability” as part of the Carolina Population Center’s 2019-2020 Interdisciplinary Research Seminar Series. \nRachel Margolis is an associate professor in the sociology department at the University of Western Ontario\, where she has worked since her PhD in Demography and Sociology from the University of Pennsylvania.  Her research addresses population aging\, changes in family networks\, population health\, and social policy. \nPresentation Abstract: \nThis paper examines how a policy aimed to promote gender equality at home and in the workplace unintentionally made unions more stable. Paid parental benefits policies were originally designed to increase women’s return to work after childbirth. However\, more recent extensions of these policies aim to promote more equal care and paid work for parents. This is a great example of a social policy which was first used to encourage the first phase of the gender revolution\, the movement of women into the paid labor force\, and then have been adapted to promote the second phase of this revolution\, the movement of men into care work and housework. Even though these policies have no explicit aims regarding relationship stability\, these policies have the potential to shift union stability because the newly unequal division of labor is a source of stress and common cause of union dissolution for parents. Using administrative data from Canada\, this paper contributes to a broad literature in sociology about whether and how family policies can shape unions and family structure. \nWe record as many videos as possible. You can see previous events here. \nInstructors: To arrange for class attendance\, contact CPC (cpc@unc.edu) by the Monday before the seminar.  \nThe Carolina Population Center hosts a weekly Friday lecture on a topic that enhances our understanding of population-related changes. The 2019-2020 Interdisciplinary Research Seminars will feature talks related to aging trajectories\, health behavior\, the Zika virus\, and the beverage tax – among other topics. \nAll seminars are held from 12:00 – 1:00 pm in Carolina Square Room 2002 at 123 W. Franklin St. unless otherwise indicated.
URL:https://www.cpc.unc.edu/event/rachel-margolis-the-effects-of-gender-equality-focused-parental-benefits-on-union-stability/
LOCATION:Carolina Square Room 2002\, 123 W. Franklin St\, Chapel Hill\, NC\, 27516
CATEGORIES:2019-20 Interdisciplinary Research Seminars,Aging
ATTACH;FMTTYPE=image/jpeg:https://www.cpc.unc.edu/wp-content/uploads/2019/12/margolisbanner-e1575660867371.jpg
END:VEVENT
BEGIN:VEVENT
DTSTART;TZID=America/New_York:20200131T120000
DTEND;TZID=America/New_York:20200131T130000
DTSTAMP:20260421T073302
CREATED:20191206T191112Z
LAST-MODIFIED:20240422T145301Z
UID:35436-1580472000-1580475600@www.cpc.unc.edu
SUMMARY:CANCELED: Adriana Lleras-Muney: Do Youth Employment Programs Work? Evidence from the New Deal
DESCRIPTION:Please note: This lecture has been canceled. We will update the CPC website with a new date and time as soon as the lecture has been rescheduled.\n \nOn January 31\, 2020\, Adriana Lleras-Muney will present “Do Youth Employment Programs Work? Evidence from the New Deal” as part of the Carolina Population Center’s 2019-2020 Interdisciplinary Research Seminar Series. \nAdriana Lleras-Muney is a Professor of Economics in the Department of Economics at UCLA. She received her Ph.D. in economics from Columbia University and was an assistant professor of economics at Princeton University for seven years before moving to UCLA. Her research examines the relationships between socio-economic status and health\, with a particular focus on education and income. Her most recent work investigates whether cash transfers to poor families improve poor children’s education\, lifetime incomes and long term health. She is an associated editor for the Journal of Health Economics and she serves in the board editors of two other journals\, Demography and the American Economic Journal-Economic Policy. She is also a permanent member of the Social Sciences and Population Studies Study Section at the National Institute of Health. Lleras-Muney is a faculty fellow at the California Center for Population Research (CCPR)\,  the Center for Economic and Social Research and the National Bureau of Economic Research (NBER); and a member of the California Policy Lab. \nWe record as many videos as possible. You can see previous events here. \nInstructors: To arrange for class attendance\, contact CPC (cpc@unc.edu) by the Monday before the seminar.  \nThe Carolina Population Center hosts a weekly Friday lecture on a topic that enhances our understanding of population-related changes. The 2019-2020 Interdisciplinary Research Seminars will feature talks related to aging trajectories\, health behavior\, the Zika virus\, and the beverage tax – among other topics. \nAll seminars are held from 12:00 – 1:00 pm in Carolina Square Room 2002 at 123 W. Franklin St. unless otherwise indicated.
URL:https://www.cpc.unc.edu/event/interdisciplinary-research-seminars-adriana-lleras-muney/
LOCATION:Carolina Square Room 2002\, 123 W. Franklin St\, Chapel Hill\, NC\, 27516
CATEGORIES:2019-20 Interdisciplinary Research Seminars,Aging
ATTACH;FMTTYPE=image/jpeg:https://www.cpc.unc.edu/wp-content/uploads/2019/12/adriana-lieras-muney-horizontal.jpg
END:VEVENT
END:VCALENDAR