
BEGIN:VCALENDAR
VERSION:2.0
PRODID:-//Carolina Population Center - ECPv6.15.17//NONSGML v1.0//EN
CALSCALE:GREGORIAN
METHOD:PUBLISH
X-ORIGINAL-URL:https://www.cpc.unc.edu
X-WR-CALDESC:Events for Carolina Population Center
REFRESH-INTERVAL;VALUE=DURATION:PT1H
X-Robots-Tag:noindex
X-PUBLISHED-TTL:PT1H
BEGIN:VTIMEZONE
TZID:America/New_York
BEGIN:DAYLIGHT
TZOFFSETFROM:-0500
TZOFFSETTO:-0400
TZNAME:EDT
DTSTART:20210314T070000
END:DAYLIGHT
BEGIN:STANDARD
TZOFFSETFROM:-0400
TZOFFSETTO:-0500
TZNAME:EST
DTSTART:20211107T060000
END:STANDARD
BEGIN:DAYLIGHT
TZOFFSETFROM:-0500
TZOFFSETTO:-0400
TZNAME:EDT
DTSTART:20220313T070000
END:DAYLIGHT
BEGIN:STANDARD
TZOFFSETFROM:-0400
TZOFFSETTO:-0500
TZNAME:EST
DTSTART:20221106T060000
END:STANDARD
BEGIN:DAYLIGHT
TZOFFSETFROM:-0500
TZOFFSETTO:-0400
TZNAME:EDT
DTSTART:20230312T070000
END:DAYLIGHT
BEGIN:STANDARD
TZOFFSETFROM:-0400
TZOFFSETTO:-0500
TZNAME:EST
DTSTART:20231105T060000
END:STANDARD
END:VTIMEZONE
BEGIN:VEVENT
DTSTART;TZID=America/New_York:20220204T120000
DTEND;TZID=America/New_York:20220204T130000
DTSTAMP:20260419T102733
CREATED:20220103T193410Z
LAST-MODIFIED:20220105T152154Z
UID:91280-1643976000-1643979600@www.cpc.unc.edu
SUMMARY:Karen Benjamin Guzzo: CPC and the Future of Population Research
DESCRIPTION:On February 4\, 2022\, Karen Benjamin Guzzo\, Professor of Sociology at Bowling Green State University\, will present “CPC and the Future of Population Research” as part of the Carolina Population Center’s 2021-2022 Interdisciplinary Research Seminar Series. \nKaren Benjamin Guzzo received her Ph.D. in Sociology from the University of North Carolina in 2003 and completed postdoctoral work at the University of Pennsylvania. She joined the faculty at Bowling Green State University in fall 2011. She serves as the Director of the Center for Family and Demographic Research\, and her work has been funded by the National Institutes of Health\, the National Science Foundation\, and the Department of Health and Human Services. Trained as a family demographer and sociologist\, most of her work examines what is considered “nontraditional” family behaviors. One line of research examines unintended fertility\, looking at trends over time as well as the antecedents and consequences of unplanned births. A related line of work looks at nonmarital childbearing and multipartnered fertility\, where individuals have children by different partners. Dr. Guzzo also studies trends in cohabitation\, which has become increasingly common in the United States\, but decreasingly likely to lead to marriage even as more cohabiting couples are raising children. Finally\, she is interested in the measurement of fertility and family behaviors.
URL:https://www.cpc.unc.edu/event/karen-benjamin-guzzo/
LOCATION:Carolina Square Room 2002\, 123 W. Franklin St\, Chapel Hill\, NC\, 27516
CATEGORIES:2021-22 Interdisciplinary Research Seminars
END:VEVENT
BEGIN:VEVENT
DTSTART;TZID=America/New_York:20220210T153000
DTEND;TZID=America/New_York:20220210T170000
DTSTAMP:20260419T102733
CREATED:20220103T200054Z
LAST-MODIFIED:20220105T152137Z
UID:91283-1644507000-1644512400@www.cpc.unc.edu
SUMMARY:Sam Clark: CPC and the Future of Population Research
DESCRIPTION:On February 10\, 2022\, Sam Clark\, Professor of Sociology at The Ohio State University\, will present “CPC and the Future of Population Research” as part of the Carolina Population Center’s 2021-2022 Interdisciplinary Research Seminar Series. \nAbout Sam Clark: \nI am a formal demographer who works on the demography and epidemiology of Africa and developing new methods for population sciences. Right now I am working on: * Improving the ‘verbal autopsy’ method used to quantify the burden of disease for populations without full coverage vital statistics systems – work with colleagues at The Ohio State University\, the University of Washington\, the London School of Hygiene and Tropical Medicine\, the CDC\, the Swiss Tropical and Public Health Institute\, the WHO\, and the ‘Data for Health’ Initiative * Mapping child mortality at the subnational level through time using household survey data in countries without full coverage vital statistics systems – work with colleagues at the University of Washington and UNICEF *Developing new population indicator measurement strategies and statistical methods to implement them – work with colleagues at the University of Washington *Fertility and Mortality: variety of projects investigating levels and trends in fertility and mortality\, mostly in Africa\, and sometimes building models of age schedules of fertility and mortality that can be used widely as inputs to other analyses – work with a variety of colleagues at The Ohio State University and elsewhere * Coronavirus prevalence estimates and excess deaths for the state of Ohio and new methods for estimating disease prevalence from survey data with multiple tests – work with colleagues at The Ohio State University\, the University of Washington\, and University of California at Santa Cruz.
URL:https://www.cpc.unc.edu/event/sam-clark/
LOCATION:Carolina Square Room 2002\, 123 W. Franklin St\, Chapel Hill\, NC\, 27516
CATEGORIES:2021-22 Interdisciplinary Research Seminars
END:VEVENT
BEGIN:VEVENT
DTSTART;TZID=America/New_York:20220211T120000
DTEND;TZID=America/New_York:20220211T130000
DTSTAMP:20260419T102733
CREATED:20220103T201751Z
LAST-MODIFIED:20220106T154847Z
UID:91287-1644580800-1644584400@www.cpc.unc.edu
SUMMARY:Deshira Wallace: Stress and sugar: Exploring the role of psychosocial stress on diabetes care in rural Dominican Republic
DESCRIPTION:On February 11\, 2021\, Deshira Wallace\,an Assistant Professor in the Department of Health Behavior at the UNC Gillings School of Global Public Health\, will present “Stress and sugar: Exploring the role of psychosocial stress on diabetes care in rural Dominican Republic” as part of the Carolina Population Center’s 2021-2022 Interdisciplinary Research Seminar Series. \n\nDr. Deshira Wallace is an Assistant Professor in the Department of Health Behavior at the UNC Gillings School of Global Public Health. Her research is focused on examining the effects of structural and psychosocial stressors on cardiovascular disease and type 2 diabetes prevention and management among US Latines and in Latin America. Further\, she uses an intersectionality framework to examine risk factors\, coping behaviors\, and chronic health outcomes\, particularly among Latines and Latin Americans of African descent in an aim to further unpack health inequities within the Latine and Latin American population. \nShe works at the intersection of health sciences\, social sciences\, and the humanities to not only highlight health disparities\, but to also critically examine how these disparities and inequities came about.
URL:https://www.cpc.unc.edu/event/deshira-wallace/
LOCATION:Carolina Square Room 2002\, 123 W. Franklin St\, Chapel Hill\, NC\, 27516
CATEGORIES:2021-22 Interdisciplinary Research Seminars
END:VEVENT
BEGIN:VEVENT
DTSTART;TZID=America/New_York:20220218T120000
DTEND;TZID=America/New_York:20220218T130000
DTSTAMP:20260419T102733
CREATED:20220103T202019Z
LAST-MODIFIED:20260311T205656Z
UID:91289-1645185600-1645189200@www.cpc.unc.edu
SUMMARY:Aalyia Sadruddin: Death Matters: Notes on Aging and Time in Rwanda
DESCRIPTION:On February 18\, 2022\, Aalyia Sadruddin\, Assistant Professor in Anthropology at the University of North Carolina at Chapel Hill\, will present “Death Matters: Notes on Aging and Time in Rwanda” as part of the Carolina Population Center’s 2021-2022 Interdisciplinary Research Seminar Series.
URL:https://www.cpc.unc.edu/event/aalyia-sadruddin/
LOCATION:Carolina Square Room 2002\, 123 W. Franklin St\, Chapel Hill\, NC\, 27516
CATEGORIES:2021-22 Interdisciplinary Research Seminars,Aging
END:VEVENT
BEGIN:VEVENT
DTSTART;TZID=America/New_York:20220221T153000
DTEND;TZID=America/New_York:20220221T170000
DTSTAMP:20260419T102733
CREATED:20220103T200311Z
LAST-MODIFIED:20240422T145235Z
UID:91285-1645457400-1645462800@www.cpc.unc.edu
SUMMARY:CANCELED: Rob Warren: CPC and the Future of Population Research
DESCRIPTION:On February 21\, 2022\, Rob Warren\, Professor of Sociology at the University of Minnesota and the director of the Minnesota Population Center\, will present “CPC and the Future of Population Research” as part of the Carolina Population Center’s 2021-2022 Interdisciplinary Research Seminar Series. \nAbout Rob Warren: \n\nI am a sociologist\, demographer\, population health scholar\, and education policy researcher with experience and expertise in the collection\, production\, and dissemination of large-scale data products for research on health\, aging\, education\, and labor force outcomes through my NIH- and NSF-funded work on High School and Beyond (HSB)\, the Wisconsin Longitudinal Study (WLS)\, the 1940 U.S. Census\, and the IPUMS version of the Current Population Surveys (IPUMS-CPS). I am involved in the construction of the new 100% count historical Census data sets for IPUMS\, and I have two ongoing NIH-funded projects to link early 20th century U.S. Census data to (1) several modern surveys of older Americans\, including the HRS\, PSID\, and WLS and (2) recent mortality records from the Social Security Administration. \nI am currently Co-Director\, with Theresa Osypuk\, of the NICHD-funded Training Program in Population Health Science (T32HD095134). \nWith Chandra Muller\, Eric Grodsky\, and Jennifer Manly I am conducting follow-up surveys of the High School and Beyond cohort (with support from 1R01AG058719-01A1).  These ~25\,500 people were first interviewed in high school in 1980.  HS&B data – including a 2021-2022 follow-up focused on the early-life predictors of cognitive impairment – provide leverage in understanding the roles of education\, skills\, and childhood social circumstances  in shaping work\, health\, and cognitive well-being at midlife.
URL:https://www.cpc.unc.edu/event/rob-warren/
LOCATION:Carolina Square Room 2002\, 123 W. Franklin St\, Chapel Hill\, NC\, 27516
CATEGORIES:2021-22 Interdisciplinary Research Seminars,Aging
END:VEVENT
END:VCALENDAR