
BEGIN:VCALENDAR
VERSION:2.0
PRODID:-//Carolina Population Center - ECPv6.15.17//NONSGML v1.0//EN
CALSCALE:GREGORIAN
METHOD:PUBLISH
X-WR-CALNAME:Carolina Population Center
X-ORIGINAL-URL:https://www.cpc.unc.edu
X-WR-CALDESC:Events for Carolina Population Center
REFRESH-INTERVAL;VALUE=DURATION:PT1H
X-Robots-Tag:noindex
X-PUBLISHED-TTL:PT1H
BEGIN:VTIMEZONE
TZID:America/New_York
BEGIN:DAYLIGHT
TZOFFSETFROM:-0500
TZOFFSETTO:-0400
TZNAME:EDT
DTSTART:20230312T070000
END:DAYLIGHT
BEGIN:STANDARD
TZOFFSETFROM:-0400
TZOFFSETTO:-0500
TZNAME:EST
DTSTART:20231105T060000
END:STANDARD
BEGIN:DAYLIGHT
TZOFFSETFROM:-0500
TZOFFSETTO:-0400
TZNAME:EDT
DTSTART:20240310T070000
END:DAYLIGHT
BEGIN:STANDARD
TZOFFSETFROM:-0400
TZOFFSETTO:-0500
TZNAME:EST
DTSTART:20241103T060000
END:STANDARD
BEGIN:DAYLIGHT
TZOFFSETFROM:-0500
TZOFFSETTO:-0400
TZNAME:EDT
DTSTART:20250309T070000
END:DAYLIGHT
BEGIN:STANDARD
TZOFFSETFROM:-0400
TZOFFSETTO:-0500
TZNAME:EST
DTSTART:20251102T060000
END:STANDARD
END:VTIMEZONE
BEGIN:VEVENT
DTSTART;TZID=America/New_York:20240823T120000
DTEND;TZID=America/New_York:20240823T130000
DTSTAMP:20260421T125540
CREATED:20240819T170712Z
LAST-MODIFIED:20240819T170956Z
UID:146314-1724414400-1724418000@www.cpc.unc.edu
SUMMARY:Lauren Gaydosh: Biological and Cognitive Aging Among Sexual and Gender Minority Older Adults
DESCRIPTION:Lauren Gaydosh will present as part of the Carolina Population Center’s 2024-2025 Interdisciplinary Research Seminar Series. \nDr. Gaydosh’s primary research focuses on better understanding the role of early life environments in shaping health across the life course. This work integrates social\, contextual\, and biological data from population-based longitudinal studies to examine how inequalities in the social environment get under the skin to create health disparities. Her research has been funded by the National Institutes of Health\, the National Science Foundation\, and the US Fulbright Program. Dr. Gaydosh received her PhD in Sociology\, Demography\, and Social Policy from Princeton University in 2015.
URL:https://www.cpc.unc.edu/event/lauren-gaydosh-biological-and-cognitive-aging-among-sexual-and-gender-minority-older-adults/
LOCATION:Carolina Square Room 2002\, 123 W. Franklin St\, Chapel Hill\, NC\, 27516
END:VEVENT
END:VCALENDAR