
BEGIN:VCALENDAR
VERSION:2.0
PRODID:-//Carolina Population Center - ECPv6.15.17//NONSGML v1.0//EN
CALSCALE:GREGORIAN
METHOD:PUBLISH
X-ORIGINAL-URL:https://www.cpc.unc.edu
X-WR-CALDESC:Events for Carolina Population Center
REFRESH-INTERVAL;VALUE=DURATION:PT1H
X-Robots-Tag:noindex
X-PUBLISHED-TTL:PT1H
BEGIN:VTIMEZONE
TZID:America/New_York
BEGIN:DAYLIGHT
TZOFFSETFROM:-0500
TZOFFSETTO:-0400
TZNAME:EDT
DTSTART:20240310T070000
END:DAYLIGHT
BEGIN:STANDARD
TZOFFSETFROM:-0400
TZOFFSETTO:-0500
TZNAME:EST
DTSTART:20241103T060000
END:STANDARD
BEGIN:DAYLIGHT
TZOFFSETFROM:-0500
TZOFFSETTO:-0400
TZNAME:EDT
DTSTART:20250309T070000
END:DAYLIGHT
BEGIN:STANDARD
TZOFFSETFROM:-0400
TZOFFSETTO:-0500
TZNAME:EST
DTSTART:20251102T060000
END:STANDARD
BEGIN:DAYLIGHT
TZOFFSETFROM:-0500
TZOFFSETTO:-0400
TZNAME:EDT
DTSTART:20260308T070000
END:DAYLIGHT
BEGIN:STANDARD
TZOFFSETFROM:-0400
TZOFFSETTO:-0500
TZNAME:EST
DTSTART:20261101T060000
END:STANDARD
END:VTIMEZONE
BEGIN:VEVENT
DTSTART;TZID=America/New_York:20251010T120000
DTEND;TZID=America/New_York:20251010T130000
DTSTAMP:20260421T091731
CREATED:20250822T163634Z
LAST-MODIFIED:20251001T142358Z
UID:147750-1760097600-1760101200@www.cpc.unc.edu
SUMMARY:Interdisciplinary Research Seminar Series: Karen Guzzo
DESCRIPTION:Carolina Population Center Director Karen Guzzo will present as part of the Carolina Population Center’s 2025-2026 Interdisciplinary Research Seminar Series. \nTopic: Low Fertility and Pronatalism in the U.S. \nKaren Guzzo is a family demographer who studies family formation behaviors in the United States. Much of her work examines trends and patterns in childbearing goals and behaviors\, primarily using survey data. She is interested in whether and when people have children and under what circumstances – and the factors that influences childbearing attitudes\, preferences\, and behaviors. She also studies changes in relationship formation and stability – why people do\, or do not\, date\, live with a partner\, or get married\, and the stability of relationships among individuals and across cohorts over time.
URL:https://www.cpc.unc.edu/event/interdisciplinary-research-seminar-series-karen-guzzo/
LOCATION:Carolina Square Room 2002\, 123 W. Franklin St\, Chapel Hill\, NC\, 27516
CATEGORIES:2025-26 Interdisciplinary Research Seminars
END:VEVENT
BEGIN:VEVENT
DTSTART;TZID=America/New_York:20251022T120000
DTEND;TZID=America/New_York:20251022T130000
DTSTAMP:20260421T091731
CREATED:20250822T164403Z
LAST-MODIFIED:20251022T131134Z
UID:147760-1761134400-1761138000@www.cpc.unc.edu
SUMMARY:University Research Week: Ted Mouw
DESCRIPTION:Ted Mouw will give a presentation as part of University Research Week. \nTopic: Using UNC’s Research Data Center to analyze local demographic micro data: An example using post-hurricane migration patterns \nTed Mouw is a sociologist who studies labor markets\, immigration\, and social networks. His current research involves the mobility of low-wage workers\, the economic incorporation of immigrants\, and methods to collect samples from rare or hidden populations using social networks. \nZoom Information:\nhttps://unc.zoom.us/j/91688974418?pwd=FMSClj9YUaIyVlh2Kds5CIBnrzTC0K.1 \nMeeting ID: 916 8897 4418\nPasscode: 456918
URL:https://www.cpc.unc.edu/event/university-research-week-ted-mouw/
LOCATION:Carolina Square Room 2002\, 123 W. Franklin St\, Chapel Hill\, NC\, 27516
CATEGORIES:2025-26 Interdisciplinary Research Seminars
END:VEVENT
BEGIN:VEVENT
DTSTART;TZID=America/New_York:20251024T120000
DTEND;TZID=America/New_York:20251024T130000
DTSTAMP:20260421T091731
CREATED:20250822T163942Z
LAST-MODIFIED:20251001T132805Z
UID:147755-1761307200-1761310800@www.cpc.unc.edu
SUMMARY:Interdisciplinary Research Seminar Series: Kelly Giovanello
DESCRIPTION:Kelly Giovanello will present as part of the Carolina Population Center’s 2025-2026 Interdisciplinary Research Seminar Series. \nTopic: Ultra-High Resolution Neuroimaging of Hippocampal Subfields in Healthy Aging \nKelly Giovanello is the Senior Associate Dean for Research and Innovation in the College of Arts and Sciences. The senior associate dean for research and innovation is a member of the dean’s senior leadership team and works closely with the senior associate deans in the College and with the Office of the Vice Chancellor for Research\, Innovate Carolina\, the UNC Institute for Convergent Science and other units throughout the University to support College faculty and Carolina’s research mission as an R1 university. This position serves all parts of the College\, including the natural sciences\, social sciences and arts and humanities.
URL:https://www.cpc.unc.edu/event/kelly-giovanello/
LOCATION:Carolina Square Room 2002\, 123 W. Franklin St\, Chapel Hill\, NC\, 27516
CATEGORIES:2025-26 Interdisciplinary Research Seminars
END:VEVENT
BEGIN:VEVENT
DTSTART;TZID=America/New_York:20251031T120000
DTEND;TZID=America/New_York:20251031T130000
DTSTAMP:20260421T091731
CREATED:20250822T164129Z
LAST-MODIFIED:20251024T145013Z
UID:147758-1761912000-1761915600@www.cpc.unc.edu
SUMMARY:Interdisciplinary Research Seminar Series: Sarah Petry
DESCRIPTION:Sarah Petry will present as part of the Carolina Population Center’s 2025-2026 Interdisciplinary Research Seminar Series. \nTopic: The Years Before Medicare: Expected Health Insurance Transitions \nSarah Petry is a Postdoctoral Fellow in the Population Science Training Program at the Carolina Population Center at the University of North Carolina at Chapel Hill. Sarah received her PhD in Public Policy with a concentration in Sociology from Duke University in 2023. Sarah is a mixed-methods demographer specializing in policy determinants of health and wellbeing across the life course. Her research investigates how state-level health and social policies replicate\, worsen\, or alleviate health inequities from birth until death\, particularly for marginalized populations in the US. Her work has been published in journals including Social Policy and Administration\, the Journal of Aging and Social Policy\, and Public Administration Review. \n 
URL:https://www.cpc.unc.edu/event/interdisciplinary-research-seminar-series-sarah-petry/
LOCATION:Carolina Square Room 2002\, 123 W. Franklin St\, Chapel Hill\, NC\, 27516
CATEGORIES:2025-26 Interdisciplinary Research Seminars
END:VEVENT
END:VCALENDAR